BEGIN:VCALENDAR
VERSION:2.0
PRODID:-//Kilkenny Castle - ECPv6.15.20//NONSGML v1.0//EN
CALSCALE:GREGORIAN
METHOD:PUBLISH
X-WR-CALNAME:Kilkenny Castle
X-ORIGINAL-URL:http://54.73.152.2
X-WR-CALDESC:Events for Kilkenny Castle
REFRESH-INTERVAL;VALUE=DURATION:PT1H
X-Robots-Tag:noindex
X-PUBLISHED-TTL:PT1H
BEGIN:VTIMEZONE
TZID:Europe/Dublin
BEGIN:STANDARD
TZOFFSETFROM:+0000
TZOFFSETTO:+0100
TZNAME:IST
DTSTART:20250330T010000
END:STANDARD
BEGIN:DAYLIGHT
TZOFFSETFROM:+0100
TZOFFSETTO:+0000
TZNAME:GMT
DTSTART:20251026T010000
END:DAYLIGHT
BEGIN:STANDARD
TZOFFSETFROM:+0000
TZOFFSETTO:+0100
TZNAME:IST
DTSTART:20260329T010000
END:STANDARD
BEGIN:DAYLIGHT
TZOFFSETFROM:+0100
TZOFFSETTO:+0000
TZNAME:GMT
DTSTART:20261025T010000
END:DAYLIGHT
BEGIN:STANDARD
TZOFFSETFROM:+0000
TZOFFSETTO:+0100
TZNAME:IST
DTSTART:20270328T010000
END:STANDARD
BEGIN:DAYLIGHT
TZOFFSETFROM:+0100
TZOFFSETTO:+0000
TZNAME:GMT
DTSTART:20271031T010000
END:DAYLIGHT
END:VTIMEZONE
BEGIN:VEVENT
DTSTART;TZID=Europe/Dublin:20260516T130000
DTEND;TZID=Europe/Dublin:20260516T143000
DTSTAMP:20260423T165557
CREATED:20260422T145641Z
LAST-MODIFIED:20260422T150158Z
UID:10000226-1778936400-1778941800@54.73.152.2
SUMMARY:Biodiversity Week: Heritage and Healing with Danielle
DESCRIPTION:Join Danielle from Naturally at The Wrens Nest based in Ballinakill\, Co. Laois for an immersive walk through the historic grounds of Kilkenny Castle. Discover the ancient medicinal secrets of our native plants and trees\, exploring how these botanical treasures can nourish the body\, soothe the mind\, and restore the soul. \nMeeting Point: Kilkenny Castle Park (at the Purple Beech tree in the front field) \nThis is a FREE event. No booking required. \nPlease wear appropriate footwear and clothing as this is an outdoor event. \nwww.naturallyatthewrensnest.com
URL:http://54.73.152.2/event/biodiversity-week-heritage-and-healing-with-danielle/
LOCATION:Kilkenny Castle Park\, Kilkenny Castle\, Kilkenny\, Kilkenny\, R95YRK1\, Ireland
CATEGORIES:Biodiversity,Free Admission
ATTACH;FMTTYPE=image/jpeg:http://54.73.152.2/wp-content/uploads/2025/05/Native-plants.jpg
END:VEVENT
BEGIN:VEVENT
DTSTART;TZID=Europe/Dublin:20260521T200000
DTEND;TZID=Europe/Dublin:20260521T210000
DTSTAMP:20260423T165557
CREATED:20260422T144027Z
LAST-MODIFIED:20260422T144027Z
UID:10000225-1779393600-1779397200@54.73.152.2
SUMMARY:Biodiversity Week: Dusk Chorus
DESCRIPTION:OPW Kilkenny Castle is delighted to collaborate with the Kilkenny branch of BirdWatch Ireland for another Dusk Chorus this year on Thursday 21 May. \nAll are welcome to come along to this FREE event. \nMeeting Point: Courtyard \nThis is a FREE event. No booking required. \nPlease wear appropriate footwear and clothing as this is an outdoor event.
URL:http://54.73.152.2/event/biodiversity-week-dusk-chorus-2/
LOCATION:Kilkenny Castle Park\, Kilkenny Castle\, Kilkenny\, Kilkenny\, R95YRK1\, Ireland
CATEGORIES:Biodiversity,Free Admission
ATTACH;FMTTYPE=image/png:http://54.73.152.2/wp-content/uploads/2025/05/Dusk-Chorus-22-May.png
END:VEVENT
BEGIN:VEVENT
DTSTART;TZID=Europe/Dublin:20260522T103000
DTEND;TZID=Europe/Dublin:20260522T123000
DTSTAMP:20260423T165557
CREATED:20260422T143410Z
LAST-MODIFIED:20260422T150804Z
UID:10000224-1779445800-1779453000@54.73.152.2
SUMMARY:Biodiversity Week: Natural Beekeeping with Tanguy de Toulgoët
DESCRIPTION:Peek inside the world of bees with Tanguy de Toulgoët from Dunmore Country School in Durrow\, Co. Laois. Explore hive life up close to understand the vital role pollinators play in our ecosystems and learn practical ways to support their survival\, all inspired by the rich biodiversity of the parklands at Kilkenny Castle. \nLocation: Kilkenny Castle Park (in the Hollow near the Butler Family Burial Grounds) \nThis is a FREE event. No booking required. \nPlease wear appropriate footwear and clothing as this is an outdoor event. \nwww.dunmorecountryschool.ie
URL:http://54.73.152.2/event/biodiversity-week-natural-beekeeping-with-tanguy-de-toulgoet-2/
LOCATION:Kilkenny Castle Park\, Kilkenny Castle\, Kilkenny\, Kilkenny\, R95YRK1\, Ireland
CATEGORIES:Biodiversity,Free Admission
ATTACH;FMTTYPE=image/jpeg:http://54.73.152.2/wp-content/uploads/2025/05/Beekeeping.jpg
END:VEVENT
BEGIN:VEVENT
DTSTART;TZID=Europe/Dublin:20260523T130000
DTEND;TZID=Europe/Dublin:20260523T143000
DTSTAMP:20260423T165557
CREATED:20260422T150019Z
LAST-MODIFIED:20260422T150019Z
UID:10000227-1779541200-1779546600@54.73.152.2
SUMMARY:Biodiversity Week: Heritage and Healing with Danielle
DESCRIPTION:Join Danielle from Naturally at The Wrens Nest based in Ballinakill\, Co. Laois for an immersive walk through the historic grounds of Kilkenny Castle. Discover the ancient medicinal secrets of our native plants and trees\, exploring how these botanical treasures can nourish the body\, soothe the mind\, and restore the soul. \nMeeting Point: Kilkenny Castle Park (at the Purple Beech tree in the front field) \nThis is a FREE event. No booking required. \nPlease wear appropriate footwear and clothing as this is an outdoor event. \nwww.naturallyatthewrensnest.com
URL:http://54.73.152.2/event/biodiversity-week-heritage-and-healing-with-danielle-2/
LOCATION:Kilkenny Castle Park\, Kilkenny Castle\, Kilkenny\, Kilkenny\, R95YRK1\, Ireland
CATEGORIES:Biodiversity,Free Admission
ATTACH;FMTTYPE=image/jpeg:http://54.73.152.2/wp-content/uploads/2025/05/Native-plants.jpg
END:VEVENT
END:VCALENDAR